BEGIN:VCALENDAR
VERSION:2.0
PRODID:
BEGIN:VEVENT
UID:467729mb
DTSTAMP:20260420T155644Z
DTSTART:20260423T200000Z
DTEND:20260423T210400Z
LOCATION: Online
SUMMARY: Defending Your Workplace Culture: Tackling the 4 Biggest Threats to Your Team Engagement and Cohesion
DESCRIPTION: In today&#39\;s dynamic business environment\, preserving a unified and engaged team culture is more challenging than ever. As the rhythm of work accelerates and organizational structures evolve\, silent threats can begin to undermine our established team dynamics. These undercurrents\, if left unaddressed\, can erode morale\, dampen productivity\, and weaken the team&#39\;s cohesion. This session offers a deep dive into strategies that can help identify\, address\, and neutralize these challenges\, ensuring a positive\, resilient\, and inclusive workplace culture. Attendees will be equipped with a blend of insights and actionable strategies\, enabling them to both recognize and respond to these potential pitfalls\n 
CLASS:PUBLIC
END:VEVENT
END:VCALENDAR
