BEGIN:VCALENDAR
VERSION:2.0
PRODID:
BEGIN:VEVENT
UID:467708mb
DTSTAMP:20260420T164750Z
DTSTART:20260423T130000Z
DTEND:20260423T135700Z
LOCATION: Online
SUMMARY: Understanding the Tax Implications of Retirement Plan Distributions
DESCRIPTION: This session will address the complex rules of retirement distributions\, review key provisions of the SECURE Act 2.0\, and provide practical strategies of maximizing tax benefits for your client\n 

**Please Note:  If you need credit reported to the IRS for this IRS approved program\, please download the IRS CE request form on the Course Materials Tab and submit to <a href="mailto:kori.herrera@acpen.com" target="_blank">kori.herrera@acpen.com</a>\n 
CLASS:PUBLIC
END:VEVENT
END:VCALENDAR
