BEGIN:VCALENDAR
VERSION:2.0
PRODID:
BEGIN:VEVENT
UID:459803mb
DTSTAMP:20260419T161009Z
DTSTART:20260420T160000Z
DTEND:20260420T200000Z
LOCATION: Online
SUMMARY: Comprehensive Accounting and Financial Reporting Update
DESCRIPTION: This course covers recently issued accounting and financial statement reporting standards from the Financial Accounting Standards Board. Key implementation challenges and experiences from public company filings will be identified.

This event may be a rebroadcast of a live event and the instructor will be available to answer your questions during the event.
CLASS:PUBLIC
END:VEVENT
END:VCALENDAR
